BEGIN:VCALENDAR
VERSION:2.0
CALSCALE:GREGORIAN
BEGIN:VEVENT
URL:https://www.learndesk.us/class/6144521790291968/lesson/c100c8c0d88fa5536b122adc20ac9313?ref=outlook-calendar
SUMMARY:Install Power BI and Sign Up
DTSTART;TZID=America/Los_Angeles:20260425T190000
DTEND;TZID=America/Los_Angeles:20260425T200000
LOCATION:https://www.learndesk.us/class/6144521790291968/lesson/c100c8c0d88fa5536b122adc20ac9313?ref=outlook-calendar
DESCRIPTION: https://www.learndesk.us/class/6144521790291968/lesson/c100c8c0d88fa5536b122adc20ac9313?ref=outlook-calendar
STATUS:CONFIRMED
SEQUENCE:3
BEGIN:VALARM
TRIGGER:-PT10M
DESCRIPTION:Class Reminder
ACTION:DISPLAY
END:VALARM
END:VEVENT
END:VCALENDAR