BEGIN:VCALENDAR
VERSION:2.0
CALSCALE:GREGORIAN
BEGIN:VEVENT
URL:https://www.learndesk.us/class/6144521790291968/master-power-bi-dashboard?ref=outlook-calendar
SUMMARY:Master Power BI Dashboard
DTSTART;TZID=America/Los_Angeles:20260425T190000
DTEND;TZID=America/Los_Angeles:20260425T200000
LOCATION:https://www.learndesk.us/class/6144521790291968/master-power-bi-dashboard?ref=outlook-calendar
DESCRIPTION: 
Last time you opened an Excel Power BI Dashboard and are overwhelmed by the number of things to do. You don't know how to make the best use of your time.
What will you learn in this course?

Getting data from a data source (Excel Power Query)
Cleaning data (Excel Power Query)
Creating a data model (Excel Power Pivot)
Create cool visualizations and charts (Excel Power View)
Publishing it to your own dashboard online (Power BI Website)
Create your own Power BI Dashboard from scratch in just 70 minutes.
Understand the essence of the Power BI visualizations, and see them in action
See how Power BI is used with real examples
Understand how Power Query, Power View, and Power Pivot are used together



https://www.learndesk.us/class/6144521790291968/master-power-bi-dashboard?ref=outlook-calendar
STATUS:CONFIRMED
SEQUENCE:3
BEGIN:VALARM
TRIGGER:-PT10M
DESCRIPTION:Class Reminder
ACTION:DISPLAY
END:VALARM
END:VEVENT
END:VCALENDAR