BEGIN:VCALENDAR
VERSION:2.0
CALSCALE:GREGORIAN
BEGIN:VEVENT
URL:https://www.learndesk.us/class/6143718178422784/lesson/fb7a0d3467aac3af7748c2917704193b?ref=outlook-calendar
SUMMARY:Creating Single and Recurring Tasks
DTSTART;TZID=America/Los_Angeles:20260421T190000
DTEND;TZID=America/Los_Angeles:20260421T200000
LOCATION:https://www.learndesk.us/class/6143718178422784/lesson/fb7a0d3467aac3af7748c2917704193b?ref=outlook-calendar
DESCRIPTION: This lesson will teach you how to create and edit single and recurring tasks.

https://www.learndesk.us/class/6143718178422784/lesson/fb7a0d3467aac3af7748c2917704193b?ref=outlook-calendar
STATUS:CONFIRMED
SEQUENCE:3
BEGIN:VALARM
TRIGGER:-PT10M
DESCRIPTION:Class Reminder
ACTION:DISPLAY
END:VALARM
END:VEVENT
END:VCALENDAR