BEGIN:VCALENDAR
VERSION:2.0
CALSCALE:GREGORIAN
BEGIN:VEVENT
URL:https://www.learndesk.us/class/6143718178422784/lesson/f035c318b83440ab9bbc5eb4bbb8ecdb?ref=outlook-calendar
SUMMARY:Working with Time Zones
DTSTART;TZID=America/Los_Angeles:20260421T190000
DTEND;TZID=America/Los_Angeles:20260421T200000
LOCATION:https://www.learndesk.us/class/6143718178422784/lesson/f035c318b83440ab9bbc5eb4bbb8ecdb?ref=outlook-calendar
DESCRIPTION: With this lesson, you will learn how to work with time zones -

- Changing Time Zones
- Adding a Second Time Zone
- Swapping Time Zones

The step-by-step instructions for working with time zones have been included in this lesson.

https://www.learndesk.us/class/6143718178422784/lesson/f035c318b83440ab9bbc5eb4bbb8ecdb?ref=outlook-calendar
STATUS:CONFIRMED
SEQUENCE:3
BEGIN:VALARM
TRIGGER:-PT10M
DESCRIPTION:Class Reminder
ACTION:DISPLAY
END:VALARM
END:VEVENT
END:VCALENDAR