BEGIN:VCALENDAR
VERSION:2.0
CALSCALE:GREGORIAN
BEGIN:VEVENT
URL:https://www.learndesk.us/class/6143718178422784/lesson/ebeae8e9d9dc0fcc1ef19a0e13ee9b6e?ref=outlook-calendar
SUMMARY:Sharing Contacts
DTSTART;TZID=America/Los_Angeles:20260421T190000
DTEND;TZID=America/Los_Angeles:20260421T200000
LOCATION:https://www.learndesk.us/class/6143718178422784/lesson/ebeae8e9d9dc0fcc1ef19a0e13ee9b6e?ref=outlook-calendar
DESCRIPTION: With this lesson, you will learn how to share your contacts using the Share Contacts command. You will also learn how to share individual contacts via e-mail using vcards.

https://www.learndesk.us/class/6143718178422784/lesson/ebeae8e9d9dc0fcc1ef19a0e13ee9b6e?ref=outlook-calendar
STATUS:CONFIRMED
SEQUENCE:3
BEGIN:VALARM
TRIGGER:-PT10M
DESCRIPTION:Class Reminder
ACTION:DISPLAY
END:VALARM
END:VEVENT
END:VCALENDAR