BEGIN:VCALENDAR
VERSION:2.0
CALSCALE:GREGORIAN
BEGIN:VEVENT
URL:https://www.learndesk.us/class/6143718178422784/lesson/eac43536e6cf19e69ecc71eb9d136b80?ref=outlook-calendar
SUMMARY:E-Mail Signatures
DTSTART;TZID=America/Los_Angeles:20260421T190000
DTEND;TZID=America/Los_Angeles:20260421T200000
LOCATION:https://www.learndesk.us/class/6143718178422784/lesson/eac43536e6cf19e69ecc71eb9d136b80?ref=outlook-calendar
DESCRIPTION: This section will teach you how to create various signatures and apply them to e-mail messages.

https://www.learndesk.us/class/6143718178422784/lesson/eac43536e6cf19e69ecc71eb9d136b80?ref=outlook-calendar
STATUS:CONFIRMED
SEQUENCE:3
BEGIN:VALARM
TRIGGER:-PT10M
DESCRIPTION:Class Reminder
ACTION:DISPLAY
END:VALARM
END:VEVENT
END:VCALENDAR