BEGIN:VCALENDAR
VERSION:2.0
CALSCALE:GREGORIAN
BEGIN:VEVENT
URL:https://www.learndesk.us/class/6143718178422784/lesson/e465ecbd5c0065be6c03e47e894b10b4?ref=outlook-calendar
SUMMARY:Contact Tabs/Ribbons Overview
DTSTART;TZID=America/Los_Angeles:20260421T190000
DTEND;TZID=America/Los_Angeles:20260421T200000
LOCATION:https://www.learndesk.us/class/6143718178422784/lesson/e465ecbd5c0065be6c03e47e894b10b4?ref=outlook-calendar
DESCRIPTION: This lesson walks you through navigating/utilizing the Contacts App Tabs/Ribbons. The step-by-step instructions for working with the Contact App have been included in this lesson.

https://www.learndesk.us/class/6143718178422784/lesson/e465ecbd5c0065be6c03e47e894b10b4?ref=outlook-calendar
STATUS:CONFIRMED
SEQUENCE:3
BEGIN:VALARM
TRIGGER:-PT10M
DESCRIPTION:Class Reminder
ACTION:DISPLAY
END:VALARM
END:VEVENT
END:VCALENDAR