BEGIN:VCALENDAR
VERSION:2.0
CALSCALE:GREGORIAN
BEGIN:VEVENT
URL:https://www.learndesk.us/class/6143718178422784/lesson/ddccb831ed6874ba3671761d1dab385e?ref=outlook-calendar
SUMMARY:Creating Contact Groups
DTSTART;TZID=America/Los_Angeles:20260421T190000
DTEND;TZID=America/Los_Angeles:20260421T200000
LOCATION:https://www.learndesk.us/class/6143718178422784/lesson/ddccb831ed6874ba3671761d1dab385e?ref=outlook-calendar
DESCRIPTION: You will learn how to create and edit contact groups. (Contact groups were previously known as distribution lists and are used for distributing information to lists of recipients.)

https://www.learndesk.us/class/6143718178422784/lesson/ddccb831ed6874ba3671761d1dab385e?ref=outlook-calendar
STATUS:CONFIRMED
SEQUENCE:3
BEGIN:VALARM
TRIGGER:-PT10M
DESCRIPTION:Class Reminder
ACTION:DISPLAY
END:VALARM
END:VEVENT
END:VCALENDAR