BEGIN:VCALENDAR
VERSION:2.0
CALSCALE:GREGORIAN
BEGIN:VEVENT
URL:https://www.learndesk.us/class/6143718178422784/lesson/d06aac12bd366088e1c55d46f84f9110?ref=outlook-calendar
SUMMARY:Calendar
DTSTART;TZID=America/Los_Angeles:20260421T190000
DTEND;TZID=America/Los_Angeles:20260421T200000
LOCATION:https://www.learndesk.us/class/6143718178422784/lesson/d06aac12bd366088e1c55d46f84f9110?ref=outlook-calendar
DESCRIPTION: By the end of this section, you will have the skills to create single and recurring appointments and meetings, print calendars, create and print a blank calendar and pin your calendar to the dock.

https://www.learndesk.us/class/6143718178422784/lesson/d06aac12bd366088e1c55d46f84f9110?ref=outlook-calendar
STATUS:CONFIRMED
SEQUENCE:3
BEGIN:VALARM
TRIGGER:-PT10M
DESCRIPTION:Class Reminder
ACTION:DISPLAY
END:VALARM
END:VEVENT
END:VCALENDAR