BEGIN:VCALENDAR
VERSION:2.0
CALSCALE:GREGORIAN
BEGIN:VEVENT
URL:https://www.learndesk.us/class/6143718178422784/lesson/c9f18a82c41bf6c682fdf5a3728504fc?ref=outlook-calendar
SUMMARY:Outlook Screen Overview
DTSTART;TZID=America/Los_Angeles:20260421T190000
DTEND;TZID=America/Los_Angeles:20260421T200000
LOCATION:https://www.learndesk.us/class/6143718178422784/lesson/c9f18a82c41bf6c682fdf5a3728504fc?ref=outlook-calendar
DESCRIPTION: At the end of this section, you will have the skills to navigate the Outlook screen, panes, and tabs/ribbons with ease. You will also be able to utilize the KeyTips.

https://www.learndesk.us/class/6143718178422784/lesson/c9f18a82c41bf6c682fdf5a3728504fc?ref=outlook-calendar
STATUS:CONFIRMED
SEQUENCE:3
BEGIN:VALARM
TRIGGER:-PT10M
DESCRIPTION:Class Reminder
ACTION:DISPLAY
END:VALARM
END:VEVENT
END:VCALENDAR