BEGIN:VCALENDAR
VERSION:2.0
CALSCALE:GREGORIAN
BEGIN:VEVENT
URL:https://www.learndesk.us/class/6143718178422784/lesson/bdcfc2f7134cf8115d5db9be0aba1f9b?ref=outlook-calendar
SUMMARY:Tasks Tabs/Ribbons Overview
DTSTART;TZID=America/Los_Angeles:20260421T190000
DTEND;TZID=America/Los_Angeles:20260421T200000
LOCATION:https://www.learndesk.us/class/6143718178422784/lesson/bdcfc2f7134cf8115d5db9be0aba1f9b?ref=outlook-calendar
DESCRIPTION: This lesson walks you through navigating/utilizing the Tasks App Tabs/Ribbon. The step-by-step instructions for working with the Tasks App have been included in this lesson.

https://www.learndesk.us/class/6143718178422784/lesson/bdcfc2f7134cf8115d5db9be0aba1f9b?ref=outlook-calendar
STATUS:CONFIRMED
SEQUENCE:3
BEGIN:VALARM
TRIGGER:-PT10M
DESCRIPTION:Class Reminder
ACTION:DISPLAY
END:VALARM
END:VEVENT
END:VCALENDAR