BEGIN:VCALENDAR
VERSION:2.0
CALSCALE:GREGORIAN
BEGIN:VEVENT
URL:https://www.learndesk.us/class/6143718178422784/lesson/aade03019e343909189b171703dfea69?ref=outlook-calendar
SUMMARY:Working with Out of Office Assistant
DTSTART;TZID=America/Los_Angeles:20260421T190000
DTEND;TZID=America/Los_Angeles:20260421T200000
LOCATION:https://www.learndesk.us/class/6143718178422784/lesson/aade03019e343909189b171703dfea69?ref=outlook-calendar
DESCRIPTION: This lesson will walk you through utilizing the Out of Office Assistant (Automatic Replies) for both internal and external messages. You will learn how to schedule the replies as well as manually set them. You will also learn how to create rules to be run while your Out of Office Assistant is running. The step-by-step instructions for working with the Out of Office Assistant have been added to this lesson.

https://www.learndesk.us/class/6143718178422784/lesson/aade03019e343909189b171703dfea69?ref=outlook-calendar
STATUS:CONFIRMED
SEQUENCE:3
BEGIN:VALARM
TRIGGER:-PT10M
DESCRIPTION:Class Reminder
ACTION:DISPLAY
END:VALARM
END:VEVENT
END:VCALENDAR