BEGIN:VCALENDAR
VERSION:2.0
CALSCALE:GREGORIAN
BEGIN:VEVENT
URL:https://www.learndesk.us/class/6143718178422784/lesson/a6b996e1c9740281c7dddac2e753bc3e?ref=outlook-calendar
SUMMARY:Outlook Course Introduction
DTSTART;TZID=America/Los_Angeles:20260421T190000
DTEND;TZID=America/Los_Angeles:20260421T200000
LOCATION:https://www.learndesk.us/class/6143718178422784/lesson/a6b996e1c9740281c7dddac2e753bc3e?ref=outlook-calendar
DESCRIPTION: https://www.learndesk.us/class/6143718178422784/lesson/a6b996e1c9740281c7dddac2e753bc3e?ref=outlook-calendar
STATUS:CONFIRMED
SEQUENCE:3
BEGIN:VALARM
TRIGGER:-PT10M
DESCRIPTION:Class Reminder
ACTION:DISPLAY
END:VALARM
END:VEVENT
END:VCALENDAR