BEGIN:VCALENDAR
VERSION:2.0
CALSCALE:GREGORIAN
BEGIN:VEVENT
URL:https://www.learndesk.us/class/6143718178422784/lesson/a5227e8caa5c39716b80cebb8e8dab00?ref=outlook-calendar
SUMMARY:Creating Single and Recurring Meetings
DTSTART;TZID=America/Los_Angeles:20260421T190000
DTEND;TZID=America/Los_Angeles:20260421T200000
LOCATION:https://www.learndesk.us/class/6143718178422784/lesson/a5227e8caa5c39716b80cebb8e8dab00?ref=outlook-calendar
DESCRIPTION: In this lesson, you will learn how to schedule and modify both single and recurring meetings.

https://www.learndesk.us/class/6143718178422784/lesson/a5227e8caa5c39716b80cebb8e8dab00?ref=outlook-calendar
STATUS:CONFIRMED
SEQUENCE:3
BEGIN:VALARM
TRIGGER:-PT10M
DESCRIPTION:Class Reminder
ACTION:DISPLAY
END:VALARM
END:VEVENT
END:VCALENDAR