BEGIN:VCALENDAR
VERSION:2.0
CALSCALE:GREGORIAN
BEGIN:VEVENT
URL:https://www.learndesk.us/class/6143718178422784/lesson/a5000589fe09ad74eed3415eaf190429?ref=outlook-calendar
SUMMARY:Working with Attachments
DTSTART;TZID=America/Los_Angeles:20260421T190000
DTEND;TZID=America/Los_Angeles:20260421T200000
LOCATION:https://www.learndesk.us/class/6143718178422784/lesson/a5000589fe09ad74eed3415eaf190429?ref=outlook-calendar
DESCRIPTION: This lesson will teach you how to work with attachments -

- Attaching files to e-mails
- Opening attachments
- Saving attachments
- Printing attachments

https://www.learndesk.us/class/6143718178422784/lesson/a5000589fe09ad74eed3415eaf190429?ref=outlook-calendar
STATUS:CONFIRMED
SEQUENCE:3
BEGIN:VALARM
TRIGGER:-PT10M
DESCRIPTION:Class Reminder
ACTION:DISPLAY
END:VALARM
END:VEVENT
END:VCALENDAR