BEGIN:VCALENDAR
VERSION:2.0
CALSCALE:GREGORIAN
BEGIN:VEVENT
URL:https://www.learndesk.us/class/6143718178422784/lesson/9ee395cb4327b7bb1b5f8cdd55e8c744?ref=outlook-calendar
SUMMARY:Advanced Working with Attachments
DTSTART;TZID=America/Los_Angeles:20260421T190000
DTEND;TZID=America/Los_Angeles:20260421T200000
LOCATION:https://www.learndesk.us/class/6143718178422784/lesson/9ee395cb4327b7bb1b5f8cdd55e8c744?ref=outlook-calendar
DESCRIPTION: In this lesson, you will learn how to attach calendars, business cards and selected e-mails as attachments.

https://www.learndesk.us/class/6143718178422784/lesson/9ee395cb4327b7bb1b5f8cdd55e8c744?ref=outlook-calendar
STATUS:CONFIRMED
SEQUENCE:3
BEGIN:VALARM
TRIGGER:-PT10M
DESCRIPTION:Class Reminder
ACTION:DISPLAY
END:VALARM
END:VEVENT
END:VCALENDAR