BEGIN:VCALENDAR
VERSION:2.0
CALSCALE:GREGORIAN
BEGIN:VEVENT
URL:https://www.learndesk.us/class/6143718178422784/lesson/9907a6c9fe372c2a983e19bf2e23eaa7?ref=outlook-calendar
SUMMARY:Working with Junk E-Mail Filter
DTSTART;TZID=America/Los_Angeles:20260421T190000
DTEND;TZID=America/Los_Angeles:20260421T200000
LOCATION:https://www.learndesk.us/class/6143718178422784/lesson/9907a6c9fe372c2a983e19bf2e23eaa7?ref=outlook-calendar
DESCRIPTION: Learn how to effectively utilize the Junk E-Mail Filter to filter out e-mails you do not want to be stored in your inbox. You will also learn how to re-categorize messages that have been inadvertently marked as junk.

https://www.learndesk.us/class/6143718178422784/lesson/9907a6c9fe372c2a983e19bf2e23eaa7?ref=outlook-calendar
STATUS:CONFIRMED
SEQUENCE:3
BEGIN:VALARM
TRIGGER:-PT10M
DESCRIPTION:Class Reminder
ACTION:DISPLAY
END:VALARM
END:VEVENT
END:VCALENDAR