BEGIN:VCALENDAR
VERSION:2.0
CALSCALE:GREGORIAN
BEGIN:VEVENT
URL:https://www.learndesk.us/class/6143718178422784/lesson/98288090a5ede868857be12501370c38?ref=outlook-calendar
SUMMARY:Replying and Forwarding E-Mails
DTSTART;TZID=America/Los_Angeles:20260421T190000
DTEND;TZID=America/Los_Angeles:20260421T200000
LOCATION:https://www.learndesk.us/class/6143718178422784/lesson/98288090a5ede868857be12501370c38?ref=outlook-calendar
DESCRIPTION: This lesson will teach you how to utilize the reply and forward functions for e-mails.

https://www.learndesk.us/class/6143718178422784/lesson/98288090a5ede868857be12501370c38?ref=outlook-calendar
STATUS:CONFIRMED
SEQUENCE:3
BEGIN:VALARM
TRIGGER:-PT10M
DESCRIPTION:Class Reminder
ACTION:DISPLAY
END:VALARM
END:VEVENT
END:VCALENDAR