BEGIN:VCALENDAR
VERSION:2.0
CALSCALE:GREGORIAN
BEGIN:VEVENT
URL:https://www.learndesk.us/class/6143718178422784/lesson/95e0579c990079e29aec32072da61e93?ref=outlook-calendar
SUMMARY:Working with Rules
DTSTART;TZID=America/Los_Angeles:20260421T190000
DTEND;TZID=America/Los_Angeles:20260421T200000
LOCATION:https://www.learndesk.us/class/6143718178422784/lesson/95e0579c990079e29aec32072da61e93?ref=outlook-calendar
DESCRIPTION: In this lesson, you will learn how to create rules utilizing both the blank rule feature and the Wizard.

https://www.learndesk.us/class/6143718178422784/lesson/95e0579c990079e29aec32072da61e93?ref=outlook-calendar
STATUS:CONFIRMED
SEQUENCE:3
BEGIN:VALARM
TRIGGER:-PT10M
DESCRIPTION:Class Reminder
ACTION:DISPLAY
END:VALARM
END:VEVENT
END:VCALENDAR