BEGIN:VCALENDAR
VERSION:2.0
CALSCALE:GREGORIAN
BEGIN:VEVENT
URL:https://www.learndesk.us/class/6143718178422784/lesson/9163f4c5fc78534bc6161d97eab58736?ref=outlook-calendar
SUMMARY:Tasks
DTSTART;TZID=America/Los_Angeles:20260421T190000
DTEND;TZID=America/Los_Angeles:20260421T200000
LOCATION:https://www.learndesk.us/class/6143718178422784/lesson/9163f4c5fc78534bc6161d97eab58736?ref=outlook-calendar
DESCRIPTION: By the end of this section, you will have the skills to work with tasks - create single and recurring tasks, create tasks from e-mails, update progress and print. You will also be able to pin to dock.

https://www.learndesk.us/class/6143718178422784/lesson/9163f4c5fc78534bc6161d97eab58736?ref=outlook-calendar
STATUS:CONFIRMED
SEQUENCE:3
BEGIN:VALARM
TRIGGER:-PT10M
DESCRIPTION:Class Reminder
ACTION:DISPLAY
END:VALARM
END:VEVENT
END:VCALENDAR