BEGIN:VCALENDAR
VERSION:2.0
CALSCALE:GREGORIAN
BEGIN:VEVENT
URL:https://www.learndesk.us/class/6143718178422784/lesson/831e1b2cbd92490c644730102e45e08c?ref=outlook-calendar
SUMMARY:E-Mail Organization Quiz
DTSTART;TZID=America/Los_Angeles:20260421T190000
DTEND;TZID=America/Los_Angeles:20260421T200000
LOCATION:https://www.learndesk.us/class/6143718178422784/lesson/831e1b2cbd92490c644730102e45e08c?ref=outlook-calendar
DESCRIPTION: https://www.learndesk.us/class/6143718178422784/lesson/831e1b2cbd92490c644730102e45e08c?ref=outlook-calendar
STATUS:CONFIRMED
SEQUENCE:3
BEGIN:VALARM
TRIGGER:-PT10M
DESCRIPTION:Class Reminder
ACTION:DISPLAY
END:VALARM
END:VEVENT
END:VCALENDAR