BEGIN:VCALENDAR
VERSION:2.0
CALSCALE:GREGORIAN
BEGIN:VEVENT
URL:https://www.learndesk.us/class/6143718178422784/lesson/7b57153a6b5da76ba0cdbf79d5e20f28?ref=outlook-calendar
SUMMARY:E-Mail's Out of Office Assistant
DTSTART;TZID=America/Los_Angeles:20260421T190000
DTEND;TZID=America/Los_Angeles:20260421T200000
LOCATION:https://www.learndesk.us/class/6143718178422784/lesson/7b57153a6b5da76ba0cdbf79d5e20f28?ref=outlook-calendar
DESCRIPTION: By the end of this section, you will be able to crate and use both basic and advanced Automatic Replies.

https://www.learndesk.us/class/6143718178422784/lesson/7b57153a6b5da76ba0cdbf79d5e20f28?ref=outlook-calendar
STATUS:CONFIRMED
SEQUENCE:3
BEGIN:VALARM
TRIGGER:-PT10M
DESCRIPTION:Class Reminder
ACTION:DISPLAY
END:VALARM
END:VEVENT
END:VCALENDAR