BEGIN:VCALENDAR
VERSION:2.0
CALSCALE:GREGORIAN
BEGIN:VEVENT
URL:https://www.learndesk.us/class/6143718178422784/lesson/75f88c2be274608daf93a20a3817b6a0?ref=outlook-calendar
SUMMARY:Screen Basics, Reading Pane, Navigation Pane, Tabs and Ribbons
DTSTART;TZID=America/Los_Angeles:20260421T190000
DTEND;TZID=America/Los_Angeles:20260421T200000
LOCATION:https://www.learndesk.us/class/6143718178422784/lesson/75f88c2be274608daf93a20a3817b6a0?ref=outlook-calendar
DESCRIPTION: This lesson focuses on the individual pieces that make up the Outlook screens and their functions. Additionally, you will learn how the tabs work and how related commands are grouped together within the ribbons on the various tabs.

https://www.learndesk.us/class/6143718178422784/lesson/75f88c2be274608daf93a20a3817b6a0?ref=outlook-calendar
STATUS:CONFIRMED
SEQUENCE:3
BEGIN:VALARM
TRIGGER:-PT10M
DESCRIPTION:Class Reminder
ACTION:DISPLAY
END:VALARM
END:VEVENT
END:VCALENDAR