BEGIN:VCALENDAR
VERSION:2.0
CALSCALE:GREGORIAN
BEGIN:VEVENT
URL:https://www.learndesk.us/class/6143718178422784/lesson/7364ae7bafda0ca723b3b4aaff178289?ref=outlook-calendar
SUMMARY:Using Clutter to Sort Low Priority Messages
DTSTART;TZID=America/Los_Angeles:20260421T190000
DTEND;TZID=America/Los_Angeles:20260421T200000
LOCATION:https://www.learndesk.us/class/6143718178422784/lesson/7364ae7bafda0ca723b3b4aaff178289?ref=outlook-calendar
DESCRIPTION: Learn how to use the Outlook 2016 Clutter feature to sort and filter low priority messages. The step-by-step instructions you will learn in the E-Mail Organization section have been included in this lesson.

https://www.learndesk.us/class/6143718178422784/lesson/7364ae7bafda0ca723b3b4aaff178289?ref=outlook-calendar
STATUS:CONFIRMED
SEQUENCE:3
BEGIN:VALARM
TRIGGER:-PT10M
DESCRIPTION:Class Reminder
ACTION:DISPLAY
END:VALARM
END:VEVENT
END:VCALENDAR