BEGIN:VCALENDAR
VERSION:2.0
CALSCALE:GREGORIAN
BEGIN:VEVENT
URL:https://www.learndesk.us/class/6143718178422784/lesson/6e081d3470e28e545e26f0943f730c2d?ref=outlook-calendar
SUMMARY:Printing E-Mails
DTSTART;TZID=America/Los_Angeles:20260421T190000
DTEND;TZID=America/Los_Angeles:20260421T200000
LOCATION:https://www.learndesk.us/class/6143718178422784/lesson/6e081d3470e28e545e26f0943f730c2d?ref=outlook-calendar
DESCRIPTION: This lesson will walk you through printing e-mails and e-mail attachments.

https://www.learndesk.us/class/6143718178422784/lesson/6e081d3470e28e545e26f0943f730c2d?ref=outlook-calendar
STATUS:CONFIRMED
SEQUENCE:3
BEGIN:VALARM
TRIGGER:-PT10M
DESCRIPTION:Class Reminder
ACTION:DISPLAY
END:VALARM
END:VEVENT
END:VCALENDAR