BEGIN:VCALENDAR
VERSION:2.0
CALSCALE:GREGORIAN
BEGIN:VEVENT
URL:https://www.learndesk.us/class/6143718178422784/lesson/5abf19bcec345d0e03477bef4b08c1ab?ref=outlook-calendar
SUMMARY:E-Mail Organization
DTSTART;TZID=America/Los_Angeles:20260421T190000
DTEND;TZID=America/Los_Angeles:20260421T200000
LOCATION:https://www.learndesk.us/class/6143718178422784/lesson/5abf19bcec345d0e03477bef4b08c1ab?ref=outlook-calendar
DESCRIPTION: This section will give you the skills necessary to organize your messages using the Clutter feature, Junk E-Mail Filer and Rules.

https://www.learndesk.us/class/6143718178422784/lesson/5abf19bcec345d0e03477bef4b08c1ab?ref=outlook-calendar
STATUS:CONFIRMED
SEQUENCE:3
BEGIN:VALARM
TRIGGER:-PT10M
DESCRIPTION:Class Reminder
ACTION:DISPLAY
END:VALARM
END:VEVENT
END:VCALENDAR