BEGIN:VCALENDAR
VERSION:2.0
CALSCALE:GREGORIAN
BEGIN:VEVENT
URL:https://www.learndesk.us/class/6143718178422784/lesson/4e35f40a69d69c2f644c9ecb988c9aba?ref=outlook-calendar
SUMMARY:Customizing and Creating Quick Steps
DTSTART;TZID=America/Los_Angeles:20260421T190000
DTEND;TZID=America/Los_Angeles:20260421T200000
LOCATION:https://www.learndesk.us/class/6143718178422784/lesson/4e35f40a69d69c2f644c9ecb988c9aba?ref=outlook-calendar
DESCRIPTION: With this lesson, you will learn how to utilize Outlook Quick Steps -

- Customizing Default Quick Steps
- Creating Custom Quick Steps

The step-by-step instructions for working with Quick Steps have been included in this lesson.

https://www.learndesk.us/class/6143718178422784/lesson/4e35f40a69d69c2f644c9ecb988c9aba?ref=outlook-calendar
STATUS:CONFIRMED
SEQUENCE:3
BEGIN:VALARM
TRIGGER:-PT10M
DESCRIPTION:Class Reminder
ACTION:DISPLAY
END:VALARM
END:VEVENT
END:VCALENDAR