BEGIN:VCALENDAR
VERSION:2.0
CALSCALE:GREGORIAN
BEGIN:VEVENT
URL:https://www.learndesk.us/class/6143718178422784/lesson/4d9e6ebcf82b244c46795cd9e8535f47?ref=outlook-calendar
SUMMARY:E-Mail Tabs/Ribbons Overview
DTSTART;TZID=America/Los_Angeles:20260421T190000
DTEND;TZID=America/Los_Angeles:20260421T200000
LOCATION:https://www.learndesk.us/class/6143718178422784/lesson/4d9e6ebcf82b244c46795cd9e8535f47?ref=outlook-calendar
DESCRIPTION: This section walks you through navigating/utilizing the E-Mail App tabs/ribbons, including the e-mail message tab. The step-by-step instructions for the features you will learn in this section have been added to this lesson.

https://www.learndesk.us/class/6143718178422784/lesson/4d9e6ebcf82b244c46795cd9e8535f47?ref=outlook-calendar
STATUS:CONFIRMED
SEQUENCE:3
BEGIN:VALARM
TRIGGER:-PT10M
DESCRIPTION:Class Reminder
ACTION:DISPLAY
END:VALARM
END:VEVENT
END:VCALENDAR