BEGIN:VCALENDAR
VERSION:2.0
CALSCALE:GREGORIAN
BEGIN:VEVENT
URL:https://www.learndesk.us/class/6143718178422784/lesson/47bf1a83b7267af3dba6da3967d30d5c?ref=outlook-calendar
SUMMARY:Creating and Adding Signatures
DTSTART;TZID=America/Los_Angeles:20260421T190000
DTEND;TZID=America/Los_Angeles:20260421T200000
LOCATION:https://www.learndesk.us/class/6143718178422784/lesson/47bf1a83b7267af3dba6da3967d30d5c?ref=outlook-calendar
DESCRIPTION: You will learn how to create various types of rules, including how to add business cards, links, etc. You will also learn how to set up a signature to be automatically added to an E-Mail as well as how to manually add signatures. The step-by-step instructions for working with signatures have been added to this lecture.

https://www.learndesk.us/class/6143718178422784/lesson/47bf1a83b7267af3dba6da3967d30d5c?ref=outlook-calendar
STATUS:CONFIRMED
SEQUENCE:3
BEGIN:VALARM
TRIGGER:-PT10M
DESCRIPTION:Class Reminder
ACTION:DISPLAY
END:VALARM
END:VEVENT
END:VCALENDAR