BEGIN:VCALENDAR
VERSION:2.0
CALSCALE:GREGORIAN
BEGIN:VEVENT
URL:https://www.learndesk.us/class/6143718178422784/lesson/43d97f4ac6ea92b140cab3e1a8db1bb5?ref=outlook-calendar
SUMMARY:Updating Task Progress
DTSTART;TZID=America/Los_Angeles:20260421T190000
DTEND;TZID=America/Los_Angeles:20260421T200000
LOCATION:https://www.learndesk.us/class/6143718178422784/lesson/43d97f4ac6ea92b140cab3e1a8db1bb5?ref=outlook-calendar
DESCRIPTION: With this lesson, you will learn how to update the progress for your tasks as well as how to sort and view tasks.

https://www.learndesk.us/class/6143718178422784/lesson/43d97f4ac6ea92b140cab3e1a8db1bb5?ref=outlook-calendar
STATUS:CONFIRMED
SEQUENCE:3
BEGIN:VALARM
TRIGGER:-PT10M
DESCRIPTION:Class Reminder
ACTION:DISPLAY
END:VALARM
END:VEVENT
END:VCALENDAR