BEGIN:VCALENDAR
VERSION:2.0
CALSCALE:GREGORIAN
BEGIN:VEVENT
URL:https://www.learndesk.us/class/6143718178422784/lesson/406b7abb37f19f5230975d32cf6ddd55?ref=outlook-calendar
SUMMARY:How to Keep your Calendar in the Dock
DTSTART;TZID=America/Los_Angeles:20260421T190000
DTEND;TZID=America/Los_Angeles:20260421T200000
LOCATION:https://www.learndesk.us/class/6143718178422784/lesson/406b7abb37f19f5230975d32cf6ddd55?ref=outlook-calendar
DESCRIPTION: With this lesson, you will learn how to "Peek the Dock" - dock the calendar into the sidebar for the various apps so it remains visible.

https://www.learndesk.us/class/6143718178422784/lesson/406b7abb37f19f5230975d32cf6ddd55?ref=outlook-calendar
STATUS:CONFIRMED
SEQUENCE:3
BEGIN:VALARM
TRIGGER:-PT10M
DESCRIPTION:Class Reminder
ACTION:DISPLAY
END:VALARM
END:VEVENT
END:VCALENDAR