BEGIN:VCALENDAR
VERSION:2.0
CALSCALE:GREGORIAN
BEGIN:VEVENT
URL:https://www.learndesk.us/class/6143718178422784/lesson/38b15af8262a47b7cdd2389de42571b3?ref=outlook-calendar
SUMMARY:Notes
DTSTART;TZID=America/Los_Angeles:20260421T190000
DTEND;TZID=America/Los_Angeles:20260421T200000
LOCATION:https://www.learndesk.us/class/6143718178422784/lesson/38b15af8262a47b7cdd2389de42571b3?ref=outlook-calendar
DESCRIPTION: By the end of this section, you will have the skills necessary wot work with notes - create, edit and print.

https://www.learndesk.us/class/6143718178422784/lesson/38b15af8262a47b7cdd2389de42571b3?ref=outlook-calendar
STATUS:CONFIRMED
SEQUENCE:3
BEGIN:VALARM
TRIGGER:-PT10M
DESCRIPTION:Class Reminder
ACTION:DISPLAY
END:VALARM
END:VEVENT
END:VCALENDAR