BEGIN:VCALENDAR
VERSION:2.0
CALSCALE:GREGORIAN
BEGIN:VEVENT
URL:https://www.learndesk.us/class/6143718178422784/lesson/329ecc3cb6448efa97035232301c6f0f?ref=outlook-calendar
SUMMARY:E-Mail Basics
DTSTART;TZID=America/Los_Angeles:20260421T190000
DTEND;TZID=America/Los_Angeles:20260421T200000
LOCATION:https://www.learndesk.us/class/6143718178422784/lesson/329ecc3cb6448efa97035232301c6f0f?ref=outlook-calendar
DESCRIPTION: This section will give you the skills to create, reply to, forward and print e-mails. You will also know how to work with attachments - attach files to emails, as well as open, save and print attachments.

https://www.learndesk.us/class/6143718178422784/lesson/329ecc3cb6448efa97035232301c6f0f?ref=outlook-calendar
STATUS:CONFIRMED
SEQUENCE:3
BEGIN:VALARM
TRIGGER:-PT10M
DESCRIPTION:Class Reminder
ACTION:DISPLAY
END:VALARM
END:VEVENT
END:VCALENDAR