BEGIN:VCALENDAR
VERSION:2.0
CALSCALE:GREGORIAN
BEGIN:VEVENT
URL:https://www.learndesk.us/class/6143718178422784/lesson/2e01b6cd9fc7f03207b6b423bb2a5450?ref=outlook-calendar
SUMMARY:Calendar Tabs/Ribbons Overview
DTSTART;TZID=America/Los_Angeles:20260421T190000
DTEND;TZID=America/Los_Angeles:20260421T200000
LOCATION:https://www.learndesk.us/class/6143718178422784/lesson/2e01b6cd9fc7f03207b6b423bb2a5450?ref=outlook-calendar
DESCRIPTION: This lesson walks you through navigating/utilizing the Calendar App tabs/Ribbons. The step-by-step instructions for working with the Calendar App have been added to this lesson.

https://www.learndesk.us/class/6143718178422784/lesson/2e01b6cd9fc7f03207b6b423bb2a5450?ref=outlook-calendar
STATUS:CONFIRMED
SEQUENCE:3
BEGIN:VALARM
TRIGGER:-PT10M
DESCRIPTION:Class Reminder
ACTION:DISPLAY
END:VALARM
END:VEVENT
END:VCALENDAR