BEGIN:VCALENDAR
VERSION:2.0
CALSCALE:GREGORIAN
BEGIN:VEVENT
URL:https://www.learndesk.us/class/6143718178422784/lesson/2ce8bf2a24946622a962495b9beb13e1?ref=outlook-calendar
SUMMARY:Utilizing the Quick Access Toolbar
DTSTART;TZID=America/Los_Angeles:20260421T190000
DTEND;TZID=America/Los_Angeles:20260421T200000
LOCATION:https://www.learndesk.us/class/6143718178422784/lesson/2ce8bf2a24946622a962495b9beb13e1?ref=outlook-calendar
DESCRIPTION: This lesson covers working with the various Quick Access toolbars available within Outlook -

- Adding Custom Commands
- Reordering Commands
- Removing Commands
- Resetting QAT back to default commands
- Moving QA Toolbar to below the ribbon

https://www.learndesk.us/class/6143718178422784/lesson/2ce8bf2a24946622a962495b9beb13e1?ref=outlook-calendar
STATUS:CONFIRMED
SEQUENCE:3
BEGIN:VALARM
TRIGGER:-PT10M
DESCRIPTION:Class Reminder
ACTION:DISPLAY
END:VALARM
END:VEVENT
END:VCALENDAR