BEGIN:VCALENDAR
VERSION:2.0
CALSCALE:GREGORIAN
BEGIN:VEVENT
URL:https://www.learndesk.us/class/6143718178422784/lesson/2955a7646dc908a882ccbcbbfc375634?ref=outlook-calendar
SUMMARY:Creating and Editing Contacts
DTSTART;TZID=America/Los_Angeles:20260421T190000
DTEND;TZID=America/Los_Angeles:20260421T200000
LOCATION:https://www.learndesk.us/class/6143718178422784/lesson/2955a7646dc908a882ccbcbbfc375634?ref=outlook-calendar
DESCRIPTION: This lesson will teach you how to create and edit contacts. You will also learn how to create a contact form and e-mail's sender.

https://www.learndesk.us/class/6143718178422784/lesson/2955a7646dc908a882ccbcbbfc375634?ref=outlook-calendar
STATUS:CONFIRMED
SEQUENCE:3
BEGIN:VALARM
TRIGGER:-PT10M
DESCRIPTION:Class Reminder
ACTION:DISPLAY
END:VALARM
END:VEVENT
END:VCALENDAR