BEGIN:VCALENDAR
VERSION:2.0
CALSCALE:GREGORIAN
BEGIN:VEVENT
URL:https://www.learndesk.us/class/6143718178422784/lesson/1ad0f60720b423e0a998a1d610227877?ref=outlook-calendar
SUMMARY:Totes Tabs/Ribbons Overview & Creating, Editing and Printing Notes
DTSTART;TZID=America/Los_Angeles:20260421T190000
DTEND;TZID=America/Los_Angeles:20260421T200000
LOCATION:https://www.learndesk.us/class/6143718178422784/lesson/1ad0f60720b423e0a998a1d610227877?ref=outlook-calendar
DESCRIPTION: This lesson will teach you how to utilize the Notes app -

- Navigating and Utilizing the Notes Tabs/Ribbons
- Creating Notes
- Editing Notes
- Keeping Notes visible from other programs/applications
- Printing Notes

The step-by-step instructions for working with the Notes App have been included in this lesson.

https://www.learndesk.us/class/6143718178422784/lesson/1ad0f60720b423e0a998a1d610227877?ref=outlook-calendar
STATUS:CONFIRMED
SEQUENCE:3
BEGIN:VALARM
TRIGGER:-PT10M
DESCRIPTION:Class Reminder
ACTION:DISPLAY
END:VALARM
END:VEVENT
END:VCALENDAR