BEGIN:VCALENDAR
VERSION:2.0
CALSCALE:GREGORIAN
BEGIN:VEVENT
URL:https://www.learndesk.us/class/6143718178422784/utilizing-outlook-s-apps-and-features-to-work-more-efficiently?ref=outlook-calendar
SUMMARY:Utilizing Outlook's Apps and Features to Work More Efficiently
DTSTART;TZID=America/Los_Angeles:20260421T190000
DTEND;TZID=America/Los_Angeles:20260421T200000
LOCATION:https://www.learndesk.us/class/6143718178422784/utilizing-outlook-s-apps-and-features-to-work-more-efficiently?ref=outlook-calendar
DESCRIPTION: 
This course will start by teaching you to navigate Outlook's screens and tab/ribbons. Once you are comfortable with navigating Outlook, we'll move into working with the various apps -

E-Mail Basics

Creating
Attachments

Tabs/Ribbons
Attaching Files
Opening
Saving
Printing


Replying to E-Mails
Forwarding E-Mails
Printing E-Mails


E-Mail Organization

Utilizing Clutter
Working with the Junk E-Mail Filter
Working with Rules
Working with Quick Steps - Customizing default quick steps and creating custom quick steps
Working with Search Folders - Creating default and custom search folders


E-Mail Signatures

Creating
Applying


Out of Office Assistant

Basic
Adding Rules


Calendar

Tabs/Ribbons
Working with Appointments - Single and Recurring
Working with Meetings - Single and Recurring
Peek the Dock
Printing Calendars
Creating and Printing Blank Calendars
Working with Time Zones - Changing, adding a second time zone and swapping


Contacts

Tabs/Ribbons
Working with New...

https://www.learndesk.us/class/6143718178422784/utilizing-outlook-s-apps-and-features-to-work-more-efficiently?ref=outlook-calendar
STATUS:CONFIRMED
SEQUENCE:3
BEGIN:VALARM
TRIGGER:-PT10M
DESCRIPTION:Class Reminder
ACTION:DISPLAY
END:VALARM
END:VEVENT
END:VCALENDAR