BEGIN:VCALENDAR
VERSION:2.0
CALSCALE:GREGORIAN
BEGIN:VEVENT
URL:https://www.learndesk.us/class/6135512911839232/lesson/f46e59666b1218a9b477e11292c1f13d?ref=outlook-calendar
SUMMARY:How to Locate and Properly Cite Your Sources in Your Research Paper, Project or Proposal
DTSTART;TZID=America/Los_Angeles:20260422T190000
DTEND;TZID=America/Los_Angeles:20260422T200000
LOCATION:https://www.learndesk.us/class/6135512911839232/lesson/f46e59666b1218a9b477e11292c1f13d?ref=outlook-calendar
DESCRIPTION: https://www.learndesk.us/class/6135512911839232/lesson/f46e59666b1218a9b477e11292c1f13d?ref=outlook-calendar
STATUS:CONFIRMED
SEQUENCE:3
BEGIN:VALARM
TRIGGER:-PT10M
DESCRIPTION:Class Reminder
ACTION:DISPLAY
END:VALARM
END:VEVENT
END:VCALENDAR