BEGIN:VCALENDAR
VERSION:2.0
CALSCALE:GREGORIAN
BEGIN:VEVENT
URL:https://www.learndesk.us/class/6135512911839232/lesson/e9f01639f317459cc659b061dd855ef3?ref=outlook-calendar
SUMMARY:Source Citation Walk-through (APA Writing Style)
DTSTART;TZID=America/Los_Angeles:20260422T190000
DTEND;TZID=America/Los_Angeles:20260422T200000
LOCATION:https://www.learndesk.us/class/6135512911839232/lesson/e9f01639f317459cc659b061dd855ef3?ref=outlook-calendar
DESCRIPTION: 
This is a no-nonsense step by step walkthrough of how to cite references in APA. In this walk-through of a sample paper, I share a couple of tips to help "short-cut" the process and make citing references easier. You may be required to follow a different writing convention and if so, you will find additional writing styles in the resources below:

Visit the Purdue OWL website for best practices in citing sources.
Visit the Citation Machine and copy/paste URLs to blogs and non-official internet sources as references.



https://www.learndesk.us/class/6135512911839232/lesson/e9f01639f317459cc659b061dd855ef3?ref=outlook-calendar
STATUS:CONFIRMED
SEQUENCE:3
BEGIN:VALARM
TRIGGER:-PT10M
DESCRIPTION:Class Reminder
ACTION:DISPLAY
END:VALARM
END:VEVENT
END:VCALENDAR