BEGIN:VCALENDAR
VERSION:2.0
CALSCALE:GREGORIAN
BEGIN:VEVENT
URL:https://www.learndesk.us/class/6135512911839232/lesson/d71b87b2c76f2949ec266c37fb0ea033?ref=outlook-calendar
SUMMARY:Research Topic Worksheet
DTSTART;TZID=America/Los_Angeles:20260422T190000
DTEND;TZID=America/Los_Angeles:20260422T200000
LOCATION:https://www.learndesk.us/class/6135512911839232/lesson/d71b87b2c76f2949ec266c37fb0ea033?ref=outlook-calendar
DESCRIPTION: 
Once you've settled on a topic, write it, or type it at the top of your page. If you downloaded the Research Worksheet provided, you can easily add the topic of your research there - then continue.
Caution: If you're developing your own research topic, then don't move past this step until you're at least marginally satisfied with the results.


https://www.learndesk.us/class/6135512911839232/lesson/d71b87b2c76f2949ec266c37fb0ea033?ref=outlook-calendar
STATUS:CONFIRMED
SEQUENCE:3
BEGIN:VALARM
TRIGGER:-PT10M
DESCRIPTION:Class Reminder
ACTION:DISPLAY
END:VALARM
END:VEVENT
END:VCALENDAR