BEGIN:VCALENDAR
VERSION:2.0
CALSCALE:GREGORIAN
BEGIN:VEVENT
URL:https://www.learndesk.us/class/6135512911839232/lesson/d04a6cd0fae52b583fef737e671f63c2?ref=outlook-calendar
SUMMARY:Course Learning Outcomes
DTSTART;TZID=America/Los_Angeles:20260422T190000
DTEND;TZID=America/Los_Angeles:20260422T200000
LOCATION:https://www.learndesk.us/class/6135512911839232/lesson/d04a6cd0fae52b583fef737e671f63c2?ref=outlook-calendar
DESCRIPTION: 
Now this course was designed to support three chapters of your research proposal by the end of this course you'll have a research topic that you can complete in a reasonable time.
This will help offset the attrition rate for people who don't complete their research at all. You'll also have a research title that's compelling and other people will want to read. You'll have a problem statement related to your research topic that's clear and easy to understand and you'll have a purpose statement that demonstrates how your research will contribute to the body of knowledge.


https://www.learndesk.us/class/6135512911839232/lesson/d04a6cd0fae52b583fef737e671f63c2?ref=outlook-calendar
STATUS:CONFIRMED
SEQUENCE:3
BEGIN:VALARM
TRIGGER:-PT10M
DESCRIPTION:Class Reminder
ACTION:DISPLAY
END:VALARM
END:VEVENT
END:VCALENDAR