BEGIN:VCALENDAR
VERSION:2.0
CALSCALE:GREGORIAN
BEGIN:VEVENT
URL:https://www.learndesk.us/class/6135512911839232/lesson/80bdf750c12e000a85debb172010c700?ref=outlook-calendar
SUMMARY:Practical Research Concluslion
DTSTART;TZID=America/Los_Angeles:20260422T190000
DTEND;TZID=America/Los_Angeles:20260422T200000
LOCATION:https://www.learndesk.us/class/6135512911839232/lesson/80bdf750c12e000a85debb172010c700?ref=outlook-calendar
DESCRIPTION: 
Conclusion: If you've followed the process (rules of the road) as I've outlined them, these four sentences will help guide your research project proposal. Keep them handy as you will refer to them often.
There are three Chapters to your research project proposal, and all will be guided by the information you created within these four sentences.
Chapter 1: IntroductionChapter 2: Literature ReviewChapter 3: Methodology
Research Topic: Effectiveness of Bike Patrols
Research Title: Does Community Policing Still Matter?: A study of the effectiveness of bike patrols.
Problem Statement: It is not known how, or to what extent bike patrols influence the public’s perception of police.
Purpose Statement: The purpose of this study is to examine how and to what extent bike patrols influence the public’s perception of police. You now have everything you need to get a solid start on your research! If you ever feel like you're drifting from your topic, just refer to your research outline to get...

https://www.learndesk.us/class/6135512911839232/lesson/80bdf750c12e000a85debb172010c700?ref=outlook-calendar
STATUS:CONFIRMED
SEQUENCE:3
BEGIN:VALARM
TRIGGER:-PT10M
DESCRIPTION:Class Reminder
ACTION:DISPLAY
END:VALARM
END:VEVENT
END:VCALENDAR