BEGIN:VCALENDAR
VERSION:2.0
CALSCALE:GREGORIAN
BEGIN:VEVENT
URL:https://www.learndesk.us/class/6135512911839232/lesson/4bcfe4ff2ba3cccaf6d958bb76f363b7?ref=outlook-calendar
SUMMARY:Combine Your Research Topic With Your Newspaper Headline and see the Magic Happen
DTSTART;TZID=America/Los_Angeles:20260422T190000
DTEND;TZID=America/Los_Angeles:20260422T200000
LOCATION:https://www.learndesk.us/class/6135512911839232/lesson/4bcfe4ff2ba3cccaf6d958bb76f363b7?ref=outlook-calendar
DESCRIPTION: 
Congratulations, You’re more than halfway through the class.
So now that you have a solid research topic and a dynamic newspaper headline, let’s put them together and create an eye-catching title for your Research project, paper, or proposal.
To begin :First - place a colon in the middle of a line on your screen or paper   ___________ : ____________ __________________
Next - on the left side of the colon write your newspaper headline. In the present example we’d write:
Does Community Policing Still Matter? : _____________________________________   _________________________________
Next - Immediately to the right side of the colon write the phrase words, "A Study of" and follow the phrase with your research topic. Using the present example, we see
Does Community Policing Still Matter?: A Study of the Effectiveness of Bike Patrols.
Congratulations, You now have a dynamic and interesting working research title for your research project proposal, As you continue you may find a reason...

https://www.learndesk.us/class/6135512911839232/lesson/4bcfe4ff2ba3cccaf6d958bb76f363b7?ref=outlook-calendar
STATUS:CONFIRMED
SEQUENCE:3
BEGIN:VALARM
TRIGGER:-PT10M
DESCRIPTION:Class Reminder
ACTION:DISPLAY
END:VALARM
END:VEVENT
END:VCALENDAR