BEGIN:VCALENDAR
VERSION:2.0
CALSCALE:GREGORIAN
BEGIN:VEVENT
URL:https://www.learndesk.us/class/6135512911839232/lesson/40489480cd30e187db5027b705235b97?ref=outlook-calendar
SUMMARY:Automate Research
DTSTART;TZID=America/Los_Angeles:20260422T190000
DTEND;TZID=America/Los_Angeles:20260422T200000
LOCATION:https://www.learndesk.us/class/6135512911839232/lesson/40489480cd30e187db5027b705235b97?ref=outlook-calendar
DESCRIPTION: 
As a gift to you for selecting my class, I wanted to give you a Bonus.
So the first application tool you can use in order to automate your research is simply the Google Alerts application. To use it you will need a Gmail account to get started. You can get emails when new results for a topic show up in Google Search. For example, you can get info about news, products, and other information sent directly to your inbox.
The second application is Talk Walker. Talkwalker is an incredibly powerful social media analytics tool and social media monitoring tool recommended by brands and agencies worldwide. Similar to google alerts, you can have specific information sent directly to your email when you set it up correctly.
You may be wondering how getting more emails will help you automate your search? To begin with, when you are conducting research you have lots of options across the Internet. In fact, the Internet is chock full of useful and not so useful information, and you can spend...

https://www.learndesk.us/class/6135512911839232/lesson/40489480cd30e187db5027b705235b97?ref=outlook-calendar
STATUS:CONFIRMED
SEQUENCE:3
BEGIN:VALARM
TRIGGER:-PT10M
DESCRIPTION:Class Reminder
ACTION:DISPLAY
END:VALARM
END:VEVENT
END:VCALENDAR