BEGIN:VCALENDAR
VERSION:2.0
CALSCALE:GREGORIAN
BEGIN:VEVENT
URL:https://www.learndesk.us/class/6135512911839232/lesson/1b0079e1052a81d014ad2a097f8ddebc?ref=outlook-calendar
SUMMARY:Complete a "Newspaper headline"
DTSTART;TZID=America/Los_Angeles:20260422T190000
DTEND;TZID=America/Los_Angeles:20260422T200000
LOCATION:https://www.learndesk.us/class/6135512911839232/lesson/1b0079e1052a81d014ad2a097f8ddebc?ref=outlook-calendar
DESCRIPTION: 
If we continue with the previous research topic, Effectiveness of Bike Patrols, consider this newspaper title example, "Does Community Policing Still Matter?" An alternative might be something like, "Is Community Policing Dead" Either of these headlines lean into the research topic and somewhat - prime the pump.
Once you've settled on a newspaper headline for your research topic, write it down, or type it at under your research topic near the top of your page.  If you downloaded the research outline provided, you can easily add the newspaper headline there - then continue; if not, download the worksheet now.
Caution: This is a very important step in developing an impactful and eye-catching research title, so don’t move on until you’ve nailed this down.


https://www.learndesk.us/class/6135512911839232/lesson/1b0079e1052a81d014ad2a097f8ddebc?ref=outlook-calendar
STATUS:CONFIRMED
SEQUENCE:3
BEGIN:VALARM
TRIGGER:-PT10M
DESCRIPTION:Class Reminder
ACTION:DISPLAY
END:VALARM
END:VEVENT
END:VCALENDAR