BEGIN:VCALENDAR
VERSION:2.0
CALSCALE:GREGORIAN
BEGIN:VEVENT
URL:https://www.learndesk.us/class/6135512911839232/lesson/01ada40e3feb56398759e5c2e0d7a180?ref=outlook-calendar
SUMMARY:Construct Your Purpose Statement
DTSTART;TZID=America/Los_Angeles:20260422T190000
DTEND;TZID=America/Los_Angeles:20260422T200000
LOCATION:https://www.learndesk.us/class/6135512911839232/lesson/01ada40e3feb56398759e5c2e0d7a180?ref=outlook-calendar
DESCRIPTION: The next step is to explain why you are conducting your research. Specifically, why this topic and why this problem. In other words, you’re focusing on the Purpose of your research and perhaps why it matters. It’s got to be more than just a grade if you're in an academic setting, or more than just an assigned task if you’re being funded or directed to complete the research. The research must make some sort of difference or else it’s little more than a reflection paper or an interesting personal perspective.
It may help to think of how specifically [your research results might be significant to specific areas within your field. In the present example, the significance might read something like:"The results of this research could be used to inform trainers, recruiters, and decision-makers, with regard to adopting programs to enhance community satisfaction with police."
The significance of the study isn’t necessarily vital in this process, but having it available can help justify the...

https://www.learndesk.us/class/6135512911839232/lesson/01ada40e3feb56398759e5c2e0d7a180?ref=outlook-calendar
STATUS:CONFIRMED
SEQUENCE:3
BEGIN:VALARM
TRIGGER:-PT10M
DESCRIPTION:Class Reminder
ACTION:DISPLAY
END:VALARM
END:VEVENT
END:VCALENDAR