BEGIN:VCALENDAR
VERSION:2.0
CALSCALE:GREGORIAN
BEGIN:VEVENT
URL:https://www.learndesk.us/class/6135512911839232/practical-research-from-idea-to-outline?ref=outlook-calendar
SUMMARY:Practical Research: From Idea to Outline
DTSTART;TZID=America/Los_Angeles:20260422T190000
DTEND;TZID=America/Los_Angeles:20260422T200000
LOCATION:https://www.learndesk.us/class/6135512911839232/practical-research-from-idea-to-outline?ref=outlook-calendar
DESCRIPTION: 
Are you still staring at an empty page or blank screen? Are you still trying to figure out where or how to start your research paper, project, or proposal? If this sounds like you then you are in the right place, stop hoping inspiration will strike, instead of start being proactive right now. When you follow the steps I teach you in this class, I guarantee that in 90 minutes or less, you can have a solid start on your next research paper, project, or proposal.
This class is specifically designed for students and researchers who don’t want to waste time searching through a bunch of complicated textbooks or stumble around on the Internet only to find incomplete information on how to start your research paper, project, or proposal.
In this class, I’ll show you the four critical elements found in every successful research paper, project, or proposal and how you can construct them. When you follow my step-by-step method you will finish with an outline for your research paper, project,...

https://www.learndesk.us/class/6135512911839232/practical-research-from-idea-to-outline?ref=outlook-calendar
STATUS:CONFIRMED
SEQUENCE:3
BEGIN:VALARM
TRIGGER:-PT10M
DESCRIPTION:Class Reminder
ACTION:DISPLAY
END:VALARM
END:VEVENT
END:VCALENDAR