BEGIN:VCALENDAR
VERSION:2.0
CALSCALE:GREGORIAN
BEGIN:VEVENT
URL:https://www.learndesk.us/class/6116854915399680/lesson/98c8de655061205aa5f227ff26cefe1f?ref=outlook-calendar
SUMMARY:Abstract Nouns
DTSTART;TZID=America/Los_Angeles:20260426T190000
DTEND;TZID=America/Los_Angeles:20260426T200000
LOCATION:https://www.learndesk.us/class/6116854915399680/lesson/98c8de655061205aa5f227ff26cefe1f?ref=outlook-calendar
DESCRIPTION: https://www.learndesk.us/class/6116854915399680/lesson/98c8de655061205aa5f227ff26cefe1f?ref=outlook-calendar
STATUS:CONFIRMED
SEQUENCE:3
BEGIN:VALARM
TRIGGER:-PT10M
DESCRIPTION:Class Reminder
ACTION:DISPLAY
END:VALARM
END:VEVENT
END:VCALENDAR