BEGIN:VCALENDAR
VERSION:2.0
CALSCALE:GREGORIAN
BEGIN:VEVENT
URL:https://www.learndesk.us/class/6114196099956736/lesson/fe50e6b60197dab954d5c7d28325e2d3?ref=outlook-calendar
SUMMARY:Video - Transfer FSMO roles using PowerShell
DTSTART;TZID=America/Los_Angeles:20260421T190000
DTEND;TZID=America/Los_Angeles:20260421T200000
LOCATION:https://www.learndesk.us/class/6114196099956736/lesson/fe50e6b60197dab954d5c7d28325e2d3?ref=outlook-calendar
DESCRIPTION: In this lab, you will learn how to quickly transfer the FSMO using PowerShell.

https://www.learndesk.us/class/6114196099956736/lesson/fe50e6b60197dab954d5c7d28325e2d3?ref=outlook-calendar
STATUS:CONFIRMED
SEQUENCE:3
BEGIN:VALARM
TRIGGER:-PT10M
DESCRIPTION:Class Reminder
ACTION:DISPLAY
END:VALARM
END:VEVENT
END:VCALENDAR